BEGIN:VCALENDAR
VERSION:2.0
PRODID:-//New City Baptist Church - ECPv5.0.0.2//NONSGML v1.0//EN
CALSCALE:GREGORIAN
METHOD:PUBLISH
X-WR-CALNAME:New City Baptist Church
X-ORIGINAL-URL:https://newcity.org.au
X-WR-CALDESC:Events for New City Baptist Church
BEGIN:VTIMEZONE
TZID:Europe/Paris
BEGIN:DAYLIGHT
TZOFFSETFROM:+0100
TZOFFSETTO:+0200
TZNAME:CEST
DTSTART:20200329T010000
END:DAYLIGHT
BEGIN:STANDARD
TZOFFSETFROM:+0200
TZOFFSETTO:+0100
TZNAME:CET
DTSTART:20201025T010000
END:STANDARD
END:VTIMEZONE
BEGIN:VEVENT
DTSTART;TZID=Europe/Paris:20200228T170000
DTEND;TZID=Europe/Paris:20200228T190000
DTSTAMP:20200228T190919
CREATED:20200206T193840Z
LAST-MODIFIED:20200206T193840Z
UID:1828-1582869600-1582876800@newcity.org.au
SUMMARY:Friday Gatherings
DESCRIPTION:
URL:https://newcity.org.au/whats-on/friday-gatherings/
LOCATION:The Joy Cummings Centre\, 61-63 Scott St\, Newcastle East\, Newcastle\, NSW\, 2300\, Australia
ATTACH;FMTTYPE=image/png:https://newcity.org.au/wp-content/uploads/2018/03/writer-illustration_05.png
END:VEVENT
END:VCALENDAR